BEGIN:VCALENDAR
VERSION:2.0
PRODID:icalendar-ruby
CALSCALE:GREGORIAN
METHOD:PUBLISH
BEGIN:VEVENT
DTSTAMP:20260423T111423Z
UID:10-241473@stmarksolathe.org
DTSTART:20260429T230000Z
DTEND:20260430T010000Z
CLASS:PUBLIC
CREATED:20260422T130500
DESCRIPTION:
LAST-MODIFIED:20260422T130500
LOCATION:Christ Community Church
SUMMARY:VBS Decoration Making 
URL;VALUE=URI:https://stmarksolathe.org/events/vbs-decoration-making/2026-0
 4-29
ATTACH;FILENAME=rainforestfalls_logo_sm.jpg;FMTTYPE=image/jpeg:https://dq5p
 wpg1q8ru0.cloudfront.net/2026/04/22/18/05/00/581ad6b5-80e0-4b37-b03e-f9c51
 04da9a7/rainforestfalls_logo_sm.jpg
END:VEVENT
END:VCALENDAR
