BEGIN:VCALENDAR
VERSION:2.0
PRODID:icalendar-ruby
CALSCALE:GREGORIAN
METHOD:PUBLISH
BEGIN:VEVENT
DTSTAMP:20260423T112957Z
UID:11-241474@stmarksolathe.org
DTSTART:20260503T164500Z
DTEND:20260503T180000Z
CLASS:PUBLIC
CREATED:20260422T131516
DESCRIPTION:
LAST-MODIFIED:20260422T131516
LOCATION:St. Mark's Lutheran Church
SUMMARY:VBS Co-Leader Training 
URL;VALUE=URI:https://stmarksolathe.org/events/vbs-co-leader-training/2026-
 05-03
ATTACH;FILENAME=rainforestfalls_logo_sm.jpg;FMTTYPE=image/jpeg:https://dq5p
 wpg1q8ru0.cloudfront.net/2026/04/22/18/15/16/822aa5ed-d37b-4eb9-acd6-7cfda
 f2a4325/rainforestfalls_logo_sm.jpg
END:VEVENT
END:VCALENDAR
